BEGIN:VCALENDAR
VERSION:2.0
PRODID:Convívio Motard
X-WR-CALNAME:Convívio Motard
X-WR-TIMEZONE:Europe/Lisbon
X-PUBLISHED-TTL:P1W
BEGIN:VTIMEZONE
TZID:Europe/Lisbon
X-LIC-LOCATION:Europe/Lisbon
END:VTIMEZONE
BEGIN:VEVENT
UID:69e732df5c2e5
DTSTART;VALUE=DATE:20220731
SEQUENCE:0
TRANSP:OPAQUE
DTEND;VALUE=DATE:20220801
SUMMARY:Convívio Motard
CLASS:PUBLIC
DESCRIPTION:No domingo\, dia 31 de julho\, integrada na programação do ev
 ento \"Há Festa no Parque!\"\, a Junta de Freguesia de Escariz a primeira
  edição do \"Convívio Motard de Escariz\".&nbsp\;A inscrição é gratu
 ita.Estamos à sua espera!
X-MICROSOFT-CDO-ALLDAYEVENT:TRUE
DTSTAMP:20260421T081839Z
END:VEVENT
END:VCALENDAR