BEGIN:VCALENDAR
VERSION:2.0
PRODID:Atividade física para todos
X-WR-CALNAME:Atividade física para todos
X-WR-TIMEZONE:Europe/Lisbon
X-PUBLISHED-TTL:P1W
BEGIN:VTIMEZONE
TZID:Europe/Lisbon
X-LIC-LOCATION:Europe/Lisbon
END:VTIMEZONE
BEGIN:VEVENT
UID:69e7315c8774d
DTSTART;VALUE=DATE:20220731
SEQUENCE:0
TRANSP:OPAQUE
DTEND;VALUE=DATE:20220801
SUMMARY:Atividade física para todos
CLASS:PUBLIC
DESCRIPTION:No domingo\, dia 31&nbsp\;de julho\, pela manhã\, teremos ativ
 idade física para todos no&nbsp\;\"Há Festa no Parque!\". Haverá uma ca
 minhada de cerca de 6km's por trilhos e caminhos da nossa Freguesia.Estamo
 s à sua espera!
X-MICROSOFT-CDO-ALLDAYEVENT:TRUE
DTSTAMP:20260421T081212Z
END:VEVENT
END:VCALENDAR