BEGIN:VCALENDAR
VERSION:2.0
PRODID:Escariz Move \"Your\" Dance
X-WR-CALNAME:Escariz Move \"Your\" Dance
X-WR-TIMEZONE:Europe/Lisbon
X-PUBLISHED-TTL:P1W
BEGIN:VTIMEZONE
TZID:Europe/Lisbon
X-LIC-LOCATION:Europe/Lisbon
END:VTIMEZONE
BEGIN:VEVENT
UID:69e72fc9075cd
DTSTART;VALUE=DATE:20220729
SEQUENCE:0
TRANSP:OPAQUE
DTEND;VALUE=DATE:20220730
SUMMARY:Escariz Move \"Your\" Dance
CLASS:PUBLIC
DESCRIPTION:Na sexta-feira\, dia 29 de julho\, o evento \"Há Festa no Parq
 ue!\" vai ser palco da primeira edição do \"Escariz Move \"Your\" Dance\
 ,&nbsp\;acontecimento que contará com a atuação de vários grupos de da
 nça.Estamos à sua espera!
X-MICROSOFT-CDO-ALLDAYEVENT:TRUE
DTSTAMP:20260421T080529Z
END:VEVENT
END:VCALENDAR