BEGIN:VCALENDAR
VERSION:2.0
PRODID:Plogging em Escariz
X-WR-CALNAME:Plogging em Escariz
X-WR-TIMEZONE:Europe/Lisbon
X-PUBLISHED-TTL:P1W
BEGIN:VTIMEZONE
TZID:Europe/Lisbon
X-LIC-LOCATION:Europe/Lisbon
END:VTIMEZONE
BEGIN:VEVENT
UID:69e730bcb243a
DTSTART;VALUE=DATE:20230422
SEQUENCE:0
TRANSP:OPAQUE
DTEND;VALUE=DATE:20230423
SUMMARY:Plogging em Escariz
CLASS:PUBLIC
DESCRIPTION:Está de volta o \"Plogging em Escariz\"!No próximo dia 22 de 
 abril\, realizar-se-á a 2.ª edição do&nbsp\;evento \"Plogging em Escar
 iz\"\, que&nbsp\;consiste na prática de uma atividade física e simultane
 amente na recolha de resíduos que se encontram depositados na envolvente 
 dos arruamentos e caminhos do nosso território.Este ano\, para além de i
 nserido no&nbsp\;programa&nbsp\;\"ESCambiental\"\, a Freguesia de Escariz 
 associou-se ao Plogging Santa Maria da Feira\, e fará parte da 3.ª ediç
 ão do Plogging Challeng Portugal!&nbsp\;A iniciativa\, da Junta de Fregue
 sia de Escariz\, será&nbsp\;feita em parceria com outras entidades a anun
 ciar.Inscreva-se\, até ao próximo dia 17 de abril\,&nbsp\;através dos s
 eguintes meios: freguesiadeescariz@gmail.com\, 256922670 ou presencialment
 e\, na secretaria da Junta de Freguesia.
X-MICROSOFT-CDO-ALLDAYEVENT:TRUE
DTSTAMP:20260421T080932Z
END:VEVENT
END:VCALENDAR