BEGIN:VCALENDAR
VERSION:2.0
PRODID:DesconstruRir a Diabetes
X-WR-CALNAME:DesconstruRir a Diabetes
X-WR-TIMEZONE:Europe/Lisbon
X-PUBLISHED-TTL:P1W
BEGIN:VTIMEZONE
TZID:Europe/Lisbon
X-LIC-LOCATION:Europe/Lisbon
END:VTIMEZONE
BEGIN:VEVENT
UID:69e732afa6e36
DTSTART;VALUE=DATE:20251114
SEQUENCE:0
TRANSP:OPAQUE
DTEND;VALUE=DATE:20251115
SUMMARY:DesconstruRir a Diabetes
CLASS:PUBLIC
DESCRIPTION:No próximo dia 18 de novembro\, pelas 18:30 horas\, decorrerá
  no Auditório da Junta de Freguesia de Escariz a palestra \"DesconstruRir
  a Diabetes\"\, organizada pelo Fórum Comunitário de Escariz.
X-MICROSOFT-CDO-ALLDAYEVENT:TRUE
DTSTAMP:20260421T081751Z
END:VEVENT
END:VCALENDAR