BEGIN:VCALENDAR
VERSION:2.0
PRODID:Exercícios de Mobilidade\, caminhada e corrida
X-WR-CALNAME:Exercícios de Mobilidade\, caminhada e corrida
X-WR-TIMEZONE:Europe/Lisbon
X-PUBLISHED-TTL:P1W
BEGIN:VTIMEZONE
TZID:Europe/Lisbon
X-LIC-LOCATION:Europe/Lisbon
END:VTIMEZONE
BEGIN:VEVENT
UID:69e741b3c3267
DTSTART;VALUE=DATE:20190414
SEQUENCE:0
TRANSP:OPAQUE
DTEND;VALUE=DATE:20190415
SUMMARY:Exercícios de Mobilidade\, caminhada e corrida
CLASS:PUBLIC
DESCRIPTION:No próximo dia 14 de abril\, com encontro marcado no recinto d
 a Capela da Abelheira às 9:30 horas\,&nbsp\;decorre a segunda iniciativa 
 do projeto que pretende promover a atividade física para todos.&nbsp\;A i
 niciativa\, coordenada pela Professora Ana Rita Oliveira\, consiste num tr
 eino de exercícios de mobilidade\, seguidos por uma atividade de caminhad
 a/corrida com ritmo baixo/moderado\, por caminhos da nossa Freguesia.&nbsp
 \;Após a atividade\, teremos exercícios de relaxamento.Cada um será res
 ponsável pela sua nutrição.Aconselhamos o uso de roupa e calçado adequ
 ado.Para participar na atividade\, é&nbsp\;obrigatório que&nbsp\;se faç
 a acompanhar do seu documento de identificação\, para efeitos de seguro.
 &nbsp\;
X-MICROSOFT-CDO-ALLDAYEVENT:TRUE
DTSTAMP:20260421T092155Z
END:VEVENT
END:VCALENDAR